BEGIN:VCALENDAR
VERSION:2.0
PRODID:-//Glittergladiolen - ECPv6.15.20//NONSGML v1.0//EN
CALSCALE:GREGORIAN
METHOD:PUBLISH
X-ORIGINAL-URL:https://glittergladiolen.nl
X-WR-CALDESC:Evenementen voor Glittergladiolen
REFRESH-INTERVAL;VALUE=DURATION:PT1H
X-Robots-Tag:noindex
X-PUBLISHED-TTL:PT1H
BEGIN:VTIMEZONE
TZID:Europe/Helsinki
BEGIN:DAYLIGHT
TZOFFSETFROM:+0200
TZOFFSETTO:+0300
TZNAME:EEST
DTSTART:20220327T010000
END:DAYLIGHT
BEGIN:STANDARD
TZOFFSETFROM:+0300
TZOFFSETTO:+0200
TZNAME:EET
DTSTART:20221030T010000
END:STANDARD
BEGIN:DAYLIGHT
TZOFFSETFROM:+0200
TZOFFSETTO:+0300
TZNAME:EEST
DTSTART:20230326T010000
END:DAYLIGHT
BEGIN:STANDARD
TZOFFSETFROM:+0300
TZOFFSETTO:+0200
TZNAME:EET
DTSTART:20231029T010000
END:STANDARD
BEGIN:DAYLIGHT
TZOFFSETFROM:+0200
TZOFFSETTO:+0300
TZNAME:EEST
DTSTART:20240331T010000
END:DAYLIGHT
BEGIN:STANDARD
TZOFFSETFROM:+0300
TZOFFSETTO:+0200
TZNAME:EET
DTSTART:20241027T010000
END:STANDARD
BEGIN:DAYLIGHT
TZOFFSETFROM:+0200
TZOFFSETTO:+0300
TZNAME:EEST
DTSTART:20250330T010000
END:DAYLIGHT
BEGIN:STANDARD
TZOFFSETFROM:+0300
TZOFFSETTO:+0200
TZNAME:EET
DTSTART:20251026T010000
END:STANDARD
BEGIN:DAYLIGHT
TZOFFSETFROM:+0200
TZOFFSETTO:+0300
TZNAME:EEST
DTSTART:20260329T010000
END:DAYLIGHT
BEGIN:STANDARD
TZOFFSETFROM:+0300
TZOFFSETTO:+0200
TZNAME:EET
DTSTART:20261025T010000
END:STANDARD
BEGIN:DAYLIGHT
TZOFFSETFROM:+0200
TZOFFSETTO:+0300
TZNAME:EEST
DTSTART:20270328T010000
END:DAYLIGHT
BEGIN:STANDARD
TZOFFSETFROM:+0300
TZOFFSETTO:+0200
TZNAME:EET
DTSTART:20271031T010000
END:STANDARD
END:VTIMEZONE
BEGIN:VEVENT
DTSTART;TZID=Europe/Helsinki:20260314T193000
DTEND;TZID=Europe/Helsinki:20260314T220000
DTSTAMP:20260419T173645
CREATED:20260301T214906Z
LAST-MODIFIED:20260301T215321Z
UID:450-1773516600-1773525600@glittergladiolen.nl
SUMMARY:🎯 Wedstrijd: Totdat de Dom valt vs. Glittergladiolen
DESCRIPTION:De Utrechtse theatersportverenigingen strijden op 14 maart om de eer. Dankzij onze sprankelende optredens zijn de Glitters gespot bij onze theatersportbuurtjes. Totdat de Dom Valt heeft deze glitterbloemen uitgenodigd om ze op sprankelende wijze weer buiten te zetten! En nee\, zeker niet bij het afval! \n \n🎟️Reserveren kan hier! 
URL:https://glittergladiolen.nl/event/tddv-gg/
LOCATION:Villa Concordia\, Concordiastraat 67A\, Utrecht\, Netherlands
END:VEVENT
BEGIN:VEVENT
DTSTART;TZID=Europe/Helsinki:20260307T124500
DTEND;TZID=Europe/Helsinki:20260307T220000
DTSTAMP:20260419T173645
CREATED:20260219T191739Z
LAST-MODIFIED:20260302T075714Z
UID:445-1772887500-1772920800@glittergladiolen.nl
SUMMARY:🏆 Amersfoorts Theatersport Toernooi 2026
DESCRIPTION:Wij zijn er weer bij om te strijden om de Gouden Wisselkei! \nVoor al onze fans\, liefhebbers\, groupies of gewoon vrienden en familie (overlap mogelijk tussen deze groepen): Leuk om te weten dat we in elk blok sowieso een wedstrijd spelen\, dus met ieder ticket kun je ons bewonderen. \nDat neemt niet weg dat je jezelf mag gunnen om de hele dag te genieten van vermaak en vertier\, dus koop snel je kaartje voordat ze op zijn (of wij opeens voor een lege zaal staan te stralen). \nSpeelrondes om: \n\n12:00\n15:00\n18:30\n\nJe kunt zelfs een dinervoucher bestellen om mee te eten rond 17:30\, heerlijk in de bubbel blijven en praten met de sterren van het toernooi! 😉 \nHome \n \n  \n 
URL:https://glittergladiolen.nl/event/amtt26/
LOCATION:Theater De Kamers\, Wezeperberg 1\, Amersfoort\, 3582 DJ
END:VEVENT
BEGIN:VEVENT
DTSTART;TZID=Europe/Helsinki:20260116T193000
DTEND;TZID=Europe/Helsinki:20260116T223000
DTSTAMP:20260419T173645
CREATED:20250923T190551Z
LAST-MODIFIED:20251226T152842Z
UID:93-1768591800-1768602600@glittergladiolen.nl
SUMMARY:💪 Wedstrijd - TarTrek vs. Glittergladiolen
DESCRIPTION:Een heuse theatersportwedstrijd\, met rechters\, sponzen en rozen. Komt allen kijken bij dit spektakel op uitnodiging in Haarlem! 🤗 \n \nInfo \n\nVrijdag 16 januari\nHaarlem\, Circus Hakim\nKaartjes €7\,50 (hier reserveren\, pinnen aan de deur)\nDeuren open om 19:30 uur\nVoorstelling begint om 20:00 uur\nAfronding en napraten rond 22:30 uur
URL:https://glittergladiolen.nl/event/tt-gg/
LOCATION:Circus Hakim\, Korte Verspronckweg 7\, Haarlem\, 2023 BS\, Netherlands
END:VEVENT
BEGIN:VEVENT
DTSTART;TZID=Europe/Helsinki:20251128T194500
DTEND;TZID=Europe/Helsinki:20251128T221500
DTSTAMP:20260419T173645
CREATED:20250923T185932Z
LAST-MODIFIED:20251115T094247Z
UID:98-1764359100-1764368100@glittergladiolen.nl
SUMMARY:🤩 Wedstrijd - Glittergladiolen vs. TSG Parnassos
DESCRIPTION:Koop nu je tickets! \n vs.  \n\n👼 Van cupido’s met plankenkoorts tot geflipte sprookjes – alles kan voorbij komen in deze unieke\, geheel geïmproviseerde theatershow van de Glittergladiolen tegen TSGP (Theatersportgroep Parnassos). \n\n\nDeze twee jonge\, energieke Utrechtse theatersportgroepen zullen uit hun creatiefste vaatje tappen om de grappigste\, spannendste en meest onverwachte scènes op het toneel te toveren. 🧚‍♀️ \nEn het mooiste: jij bepaalt waar het over gaat! Als publiek geef je de suggesties en maken de spelers er ter plekke een onvergetelijke voorstelling van. Bereid je voor op een avond vol energie\, oogstrelende improvisaties\, absurde wendingen en vooral: originele vondsten. 🤩 \nMuziek wordt verzorgt door Luciën Greefkes. \n\n\n \n\nInfo \n\nVrijdag 28 november\nUtrecht\, ZIMIHC Theater Wittevrouwen\nKaartjes kosten €9\,50 vvk (€11\,50 aan de deur)\nDeuren open om 19:45 uur\nVoorstelling begint om 20:00 uur\nAfronding en borrel rond 22:15 uur
URL:https://glittergladiolen.nl/event/gg-tsgp/
LOCATION:ZIMIHC Wittevrouwen\, Bouwstraat 55\, Utrecht\, 3572SP\, Netherlands
ORGANIZER;CN="De Glittergladiolen":MAILTO:info@deglittergladiolen.nl
END:VEVENT
BEGIN:VEVENT
DTSTART;TZID=Europe/Helsinki:20251122T200000
DTEND;TZID=Europe/Helsinki:20251122T221500
DTSTAMP:20260419T173645
CREATED:20251014T171507Z
LAST-MODIFIED:20251018T114819Z
UID:340-1763841600-1763849700@glittergladiolen.nl
SUMMARY:🙌 Wedstrijd - Buiten Bereik vs. Glittergladiolen
DESCRIPTION:We zijn uitgenodigd om een wedstrijd in Nijmegen neer te zetten met Buiten Bereik\, haal snel je kaartjes. \nInfo \n\nZaterdag 22 november\nNijmegen\, Theater Lindenberg\nKaartjes kosten € 12\,-\nDeuren open om 20:00 uur\nVoorstelling begint om 20:15 uur\nAfronding en borrel rond 22:15 uur
URL:https://glittergladiolen.nl/event/bb-gg/
LOCATION:Theater Lindenberg\, Ridderstraat 23\, Nijmegen\, Netherlands
END:VEVENT
BEGIN:VEVENT
DTSTART;TZID=Europe/Helsinki:20251025T193000
DTEND;TZID=Europe/Helsinki:20251025T220000
DTSTAMP:20260419T173645
CREATED:20250923T185232Z
LAST-MODIFIED:20251018T122722Z
UID:95-1761420600-1761429600@glittergladiolen.nl
SUMMARY:🕺 Wedstrijd - Niet Bepaald Doorsnee vs. Glittergladiolen
DESCRIPTION:Koop nu je tickets voor de theatersportwedstrijd die Niet Bepaald Doorsnee met wat spelers van De Glittergladiolen neerzet.\nTheatersportwedstrijd\nOp zaterdag 25 oktober nemen Niet Bepaald Doorsnee en De Glittergladiolen het tegen elkaar op in theater Artemis in het centrum van ‘s-Hertogenbosch.\n\nEr zitten 2 soorten tickets in de verkoop\, een regulier ticket en een Support ticket.Met het Support ticket geef je Niet Bepaald Doorsnee een extra steuntje in de rug. Als dank krijg je bij binnenkomst alvast rozen om tijdens de voorstelling te gooien bij je favoriete momenten.\n\nJoin us in theater Artemis in de binnenstad van Den Bosch!\nInfo \n\nVrijdag 25 oktober\n‘s-Hertogenbosch\, Theater Artemis\nKaartjes kosten € 10\,-/12\,50\nDeuren open om 19:30 uur\nVoorstelling begint om 20:00 uur\nAfronding en napraten rond 22:00 uur
URL:https://glittergladiolen.nl/event/nbd-gg/
LOCATION:Theater Artemis\, Predikheerenpoort 50\, 's-Hertogenbosch\, 5211 NK\, Netherlands
ATTACH;FMTTYPE=image/jpeg:https://glittergladiolen.nl/wp-content/uploads/2025/09/558087015_1432102801694357_7447572132132184277_n.jpg
ORGANIZER;CN="Niet Bepaald Doorsnee":MAILTO:info@nietbepaalddoorsnee.nl
END:VEVENT
BEGIN:VEVENT
DTSTART;TZID=Europe/Helsinki:20251018T193000
DTEND;TZID=Europe/Helsinki:20251018T220000
DTSTAMP:20260419T173645
CREATED:20250923T132842Z
LAST-MODIFIED:20251014T171406Z
UID:48-1760815800-1760824800@glittergladiolen.nl
SUMMARY:🏅 Maestro™️ Impro
DESCRIPTION:Koop nu je tickets voor de Maestro™️ theatershow die De Buren van Marlies samen met spelers van De Glittergladiolen neerzetten. \nMaestro™️ Impro\nHet spelformat Maestro™️ Impro wordt ook wel ‘crash and burn – theater’ genoemd. Elke spelronde krijgen improvisatieacteurs van een regisseur scène-opdrachten om deze vervolgens ter plekke te spelen. Het publiek beoordeelt elke scène aan de hand van een applausmeter. Als alle acteurs hebben gespeeld\, wordt aan de hand van de puntentelling bepaald wie door mag naar de volgende ronde… tot er één speler overblijft. Deze mag zichzelf Maestro™️ noemen! \n \nVerwacht een avond vol verhalen\, ontroerende momenten\, creativiteit en hilarische faalpartijen. Jij als publiek speelt hierin dus een belangrijke rol: jouw stem geeft richting en bepaalt wie de ultieme winnaar wordt. Er zal om suggesties gevraagd worden als ‘wat ligt er op het nachtkastje’ of ‘een plek waar je goed kunt dansen’ en daar wordt dan een scène over gespeeld\, onder begeleiding van een razendsnelle muzikant. \nInfo \n\nZaterdag 18 oktober\nRotterdam\, Theater In De Lugt\nKaartjes kosten € 10\,00\nDeuren open om 19:30 uur\nVoorstelling begint om 20:00 uur\nAfronding en napraten rond 22:00 uur
URL:https://glittergladiolen.nl/event/maestro-impro/
LOCATION:Theater – In De Lugt\, De Lugt 17\, Rotterdam\, 3043 CJ\, Netherlands
ATTACH;FMTTYPE=image/jpeg:https://glittergladiolen.nl/wp-content/uploads/2025/09/6f6eb81a-f122-4ad6-9123-9d30c8660c98.jpeg
END:VEVENT
BEGIN:VEVENT
DTSTART;TZID=Europe/Helsinki:20250614T150000
DTEND;TZID=Europe/Helsinki:20250614T223000
DTSTAMP:20260419T173645
CREATED:20251018T132414Z
LAST-MODIFIED:20251018T132414Z
UID:412-1749913200-1749940200@glittergladiolen.nl
SUMMARY:🏆 Nannie Sterk Toernooi 2025
DESCRIPTION:Het toernooi in nagedachtenis van Nannie Sterk! Een heerlijke dagtocht voor de Glitters\, maar wat was het weer genieten\, inclusief workshops vooraf.
URL:https://glittergladiolen.nl/event/nst25/
LOCATION:Theater de Drukkerij\, Marconistraat 5\, Alkmaar\, Netherlands
END:VEVENT
BEGIN:VEVENT
DTSTART;TZID=Europe/Helsinki:20250601T150000
DTEND;TZID=Europe/Helsinki:20250601T170000
DTSTAMP:20260419T173645
CREATED:20251018T131627Z
LAST-MODIFIED:20251018T131627Z
UID:407-1748790000-1748797200@glittergladiolen.nl
SUMMARY:💃 Wedstrijd - Kâttekwaod vs. Glittergladiolen
DESCRIPTION:Door Kâttekwaod uitgenodigd om tijdens één van hun maandelijkse shows met ze op te treden op hun vaste locatie.
URL:https://glittergladiolen.nl/event/kk-gg/
LOCATION:Trapop\, Hof van Monaco 8\, Utrecht\, Netherlands
END:VEVENT
BEGIN:VEVENT
DTSTART;TZID=Europe/Helsinki:20250510T200000
DTEND;TZID=Europe/Helsinki:20250510T223000
DTSTAMP:20260419T173645
CREATED:20251018T130407Z
LAST-MODIFIED:20251018T130407Z
UID:402-1746907200-1746916200@glittergladiolen.nl
SUMMARY:🎭 Voorstelling Glittergladiolen & Factor2
DESCRIPTION:Samen met cabaret-duo Factor2 hebben we een avondvullende voorstelling neergezet vol vertier ende vermaeck.
URL:https://glittergladiolen.nl/event/%f0%9f%8e%ad-voorstelling-glittergladiolen-factor2/
LOCATION:Villa Concordia\, Concordiastraat 67A\, Utrecht\, Netherlands
ORGANIZER;CN="De Glittergladiolen":MAILTO:info@deglittergladiolen.nl
END:VEVENT
BEGIN:VEVENT
DTSTART;TZID=Europe/Helsinki:20250405T190000
DTEND;TZID=Europe/Helsinki:20250405T210000
DTSTAMP:20260419T173645
CREATED:20251018T131202Z
LAST-MODIFIED:20251018T131237Z
UID:405-1743879600-1743886800@glittergladiolen.nl
SUMMARY:🎭 Privé-optreden voor Hospice vrijwilligers
DESCRIPTION:Op aanvraag hebben we opgetreden voor alle vrijwilligers van Hospice Lansingerland! Wat een prachtig publiek en wat een mooie gelegenheid om een keer een optreden op aanvraag te mogen doen. \nAls jij dit ook wilt met je bedrijfsuitje\, feest of vrienden/familie\, kijk hier voor meer info.
URL:https://glittergladiolen.nl/event/prive-optreden/
ORGANIZER;CN="De Glittergladiolen":MAILTO:info@deglittergladiolen.nl
END:VEVENT
BEGIN:VEVENT
DTSTART;TZID=Europe/Helsinki:20250308T123000
DTEND;TZID=Europe/Helsinki:20250308T213000
DTSTAMP:20260419T173645
CREATED:20251018T125824Z
LAST-MODIFIED:20251018T125824Z
UID:398-1741437000-1741469400@glittergladiolen.nl
SUMMARY:🏆 Amersfoorts Theatersport Toernooi 2025
DESCRIPTION:Vorig jaar waren we nog bezoekers (vlak voor het NTT kijken hoe een toernooi er eigenlijk uit ziet)\, dit jaar deden we gewoon mee met het AmTT.
URL:https://glittergladiolen.nl/event/amtt25/
LOCATION:De Kamers\, Wezeperberg 1\, Amersfoort\, Netherlands
END:VEVENT
BEGIN:VEVENT
DTSTART;TZID=Europe/Helsinki:20250208T200000
DTEND;TZID=Europe/Helsinki:20250208T221500
DTSTAMP:20260419T173645
CREATED:20251018T125241Z
LAST-MODIFIED:20251018T132634Z
UID:396-1739044800-1739052900@glittergladiolen.nl
SUMMARY:🥳 Wedstrijd - Glittergladiolen vs. LienMienImprovMasjien
DESCRIPTION:Onze eerste volledig zelfgeorganiseerde wedstrijd! Van licht tot presentatie\, van bardiensten tot tickets scannen. \nSamen met LienMienImprovMasjien hebben we een onvergetelijke avond neergezet!
URL:https://glittergladiolen.nl/event/gg-lmim/
LOCATION:ZIMIHC Wittevrouwen\, Bouwstraat 55\, Utrecht\, 3572SP\, Netherlands
ORGANIZER;CN="De Glittergladiolen":MAILTO:info@deglittergladiolen.nl
END:VEVENT
BEGIN:VEVENT
DTSTART;TZID=Europe/Helsinki:20241213T203000
DTEND;TZID=Europe/Helsinki:20241213T223000
DTSTAMP:20260419T173645
CREATED:20251018T124805Z
LAST-MODIFIED:20251018T124805Z
UID:391-1734121800-1734129000@glittergladiolen.nl
SUMMARY:🎭 Voorstelling Drieluik
DESCRIPTION:Lange Harry is de cursusgroep Bettie van der Niet\, zij spelen een Harold. De Harold is een geïmproviseerde longform: een verhaal van 30+ minuten met meerdere verhaallijnen en personages\, zoals in een serie of een film als Love Actually. Hoogteverschil is een kleinkunstduo dat bestaat uit\, je raadt het niet; een klein (Laura) en een lang (Marieke) persoon. Samen maken zij gehakt van iedereen. In het bijzonder van psychologen\, singersongwriters en vloggers. En misschien wel van jou… Tot slot zie je Utrechts vrolijkste theatersportgroep De Glittergladiolen. Na afloop is de bar open tot laat!
URL:https://glittergladiolen.nl/event/voorstelling-drieluik/
LOCATION:Villa Concordia\, Concordiastraat 67A\, Utrecht\, Netherlands
END:VEVENT
BEGIN:VEVENT
DTSTART;TZID=Europe/Helsinki:20241005T200000
DTEND;TZID=Europe/Helsinki:20241005T220000
DTSTAMP:20260419T173645
CREATED:20251018T123459Z
LAST-MODIFIED:20251018T123515Z
UID:382-1728158400-1728165600@glittergladiolen.nl
SUMMARY:🦹‍♀️ Wedstrijd - Alter Ego vs. Glittergladiolen
DESCRIPTION:Alter Ego is het team waarmee we de allereerste wedstrijd van het (best wel spannende) Nederlandse Theatersport Toernooi hebben gespeeld. Was een enorm fijne\, warme start en nu mogen we nog een keer tegen ze spelen op uitnodiging!
URL:https://glittergladiolen.nl/event/ae-gg/
LOCATION:ZIMIHC Wittevrouwen\, Bouwstraat 55\, Utrecht\, 3572SP\, Netherlands
END:VEVENT
BEGIN:VEVENT
DTSTART;TZID=Europe/Helsinki:20240630T160000
DTEND;TZID=Europe/Helsinki:20240630T183000
DTSTAMP:20260419T173645
CREATED:20251018T122406Z
LAST-MODIFIED:20251018T122508Z
UID:377-1719763200-1719772200@glittergladiolen.nl
SUMMARY:🍪 Wedstrijd - Koek & Ei vs. Glittergladiolen
DESCRIPTION:Het meedoen aan het NTT heeft ons onze eerste uitnodiging voor een wedstrijd opgeleverd! SPANNEND!
URL:https://glittergladiolen.nl/event/ke-gg/
LOCATION:De Schuur\, Wijde Doelen 8\, Utrecht\, Netherlands
END:VEVENT
BEGIN:VEVENT
DTSTART;TZID=Europe/Helsinki:20240608T090000
DTEND;TZID=Europe/Helsinki:20240608T180000
DTSTAMP:20260419T173645
CREATED:20251018T124201Z
LAST-MODIFIED:20251018T124201Z
UID:386-1717837200-1717869600@glittergladiolen.nl
SUMMARY:🏆 Twents Theatersport Toernooi 2024
DESCRIPTION:Door de docente die we tijdens onze eerste Glitterweekender hadden uitgenodigd\, zijn we binnengekomen bij het Twents Theaterport Toernooi! Wat een heerlijke ervaring\, waar we uiteindelijk gedeeld eerste zijn geworden!
URL:https://glittergladiolen.nl/event/ttt24/
LOCATION:De Roef\, Enschede\, Netherlands
END:VEVENT
BEGIN:VEVENT
DTSTART;TZID=Europe/Helsinki:20240406T093000
DTEND;TZID=Europe/Helsinki:20240407T220000
DTSTAMP:20260419T173645
CREATED:20251018T121908Z
LAST-MODIFIED:20251018T124242Z
UID:373-1712395800-1712527200@glittergladiolen.nl
SUMMARY:🏆 Nederlands Theatersport Toernooi 2024
DESCRIPTION:Als enthousiaste puppies hebben de Glitters zich nog tijdens hun cursus theatersport ingeschreven voor het grootste toernooi van Nederland en België. Dat hebben we geweten! Wat was dit een intense reis; met een lach en een traan\, een straal en een faal\, hebben we veel geleerd en onszelf op de kaart gezet. 😀
URL:https://glittergladiolen.nl/event/ntt24/
LOCATION:Het Huis Utrecht\, Boorstraat 107\, Utrecht\, Netherlands
END:VEVENT
BEGIN:VEVENT
DTSTART;TZID=Europe/Helsinki:20231216T200000
DTEND;TZID=Europe/Helsinki:20231216T220000
DTSTAMP:20260419T173645
CREATED:20251018T115905Z
LAST-MODIFIED:20251018T121113Z
UID:367-1702756800-1702764000@glittergladiolen.nl
SUMMARY:🎓 Glittergladiolen eindvoorstelling TS3
DESCRIPTION:Als groep hebben de Glittergladiolen zich samen ingeschreven voor Theatersport 3 en samen met enkele nieuwe telgen deze eindvoorstelling neergezet. Wat een genot\, wat een spektakel\, wat een geglitter!
URL:https://glittergladiolen.nl/event/glittergladiolen-eindvoorstelling-ts3/
LOCATION:Theaterschool Utrecht\, Domplein 4-5\, Utrecht\, Netherlands
ORGANIZER;CN="De Glittergladiolen":MAILTO:info@deglittergladiolen.nl
END:VEVENT
BEGIN:VEVENT
DTSTART;TZID=Europe/Helsinki:20231124T200000
DTEND;TZID=Europe/Helsinki:20231124T220000
DTSTAMP:20260419T173645
CREATED:20251018T121040Z
LAST-MODIFIED:20251018T121040Z
UID:371-1700856000-1700863200@glittergladiolen.nl
SUMMARY:💁‍♀️ Showcase - TSU Huisteam vs. Glittergladiolen
DESCRIPTION:Als veelbelovend en aanstormend talent (🫠) mochten we voor het Open Huis van de Theaterschool Utrecht een showwedstrijd neerzetten met het Huisteam\, naast vele andere theater en kleinkunst scènes. Genieten geblazen!
URL:https://glittergladiolen.nl/event/%f0%9f%92%81%e2%99%80%ef%b8%8f-showcase-tsu-huisteam-vs-glittergladiolen/
LOCATION:Theaterschool Utrecht\, Domplein 4-5\, Utrecht\, Netherlands
END:VEVENT
BEGIN:VEVENT
DTSTART;TZID=Europe/Helsinki:20230423T200000
DTEND;TZID=Europe/Helsinki:20230423T220000
DTSTAMP:20260419T173645
CREATED:20251018T115520Z
LAST-MODIFIED:20251018T121057Z
UID:362-1682280000-1682287200@glittergladiolen.nl
SUMMARY:💜 Glittergladiolen eindvoorstelling TS2
DESCRIPTION:Na elkaar gevonden te hebben tijdens de Theatersport 2 cursus van de Theaterschool Utrecht\, was dit de eerste voorstelling die de Glittergladiolen samen hebben opgevoerd. \nDie dag is historie geschreven en zijn lachen op gezichten getoverd!
URL:https://glittergladiolen.nl/event/glittergladiolen-eindvoorstelling-ts2/
LOCATION:Theaterschool Utrecht\, Domplein 4-5\, Utrecht\, Netherlands
ORGANIZER;CN="De Glittergladiolen":MAILTO:info@deglittergladiolen.nl
END:VEVENT
END:VCALENDAR